BEGIN:VCALENDAR
VERSION:2.0
PRODID:-//https://www.ikma.edu.my///NONSGML kigkonsult.se iCalcreator 2.10.15//
METHOD:PUBLISH
BEGIN:VEVENT
UID:20260419T190756UTC-5412ANig1m@https://www.ikma.edu.my/
DTSTAMP:20260419T190756Z
DESCRIPTION:1.&nbsp\;Memberi kefahaman indikator yang digunakan bagi mengan
 alisis prestasi kewangan koperasi. 2.&nbsp\;Mengenal pasti maklumat kewang
 an dan bukan kewangan yang diperlukan untuk membuat analisis. https://www.
 ikma.edu.my/ms/takwim-program/event/51-wajib-lanjutan-analisis-penyata-kew
 angan-untuk-pembuat-keputusan
DTSTART:20241104T080000Z
DTEND:20241105T170000Z
LOCATION:INSTITUT KOPERASI MALAYSIA\,PJ (INSTITUT KOPERASI MALAYSIA\,PJ)
SUMMARY:Wajib Lanjutan : Analisis Penyata Kewangan Untuk Pembuat Keputusan
URL:https://www.ikma.edu.my/ms/takwim-program/event/51-wajib-lanjutan-anali
 sis-penyata-kewangan-untuk-pembuat-keputusan
END:VEVENT
BEGIN:VEVENT
UID:20260419T190756UTC-54149Fgs5V@https://www.ikma.edu.my/
DTSTAMP:20260419T190756Z
DESCRIPTION:1. Menguruskan kedai dalam talian di e-Marketplace secara efekt
 if. 2. Meningkatkan pendapatan peserta melalui peluang yang ada di e-Marke
 tplace. https://www.ikma.edu.my/ms/takwim-program/event/52-strategi-jualan
 -melalui-e-marketplace
DTSTART:20241104T080000Z
DTEND:20241106T170000Z
LOCATION:INSTITUT KOPERASI MALAYSIA\, PETALING JAYA  (INSTITUT KOPERASI MAL
 AYSIA\, PETALING JAYA )
SUMMARY:Strategi Jualan Melalui E-Marketplace
URL:https://www.ikma.edu.my/ms/takwim-program/event/52-strategi-jualan-mela
 lui-e-marketplace
END:VEVENT
BEGIN:VEVENT
UID:20260419T190756UTC-54151lLrMR@https://www.ikma.edu.my/
DTSTAMP:20260419T190756Z
DESCRIPTION:Mengaplikasikan pentadbiran koperasi mengikut undang-undang. ht
 tps://www.ikma.edu.my/ms/takwim-program/event/53-pengurusan-dan-pentadbira
 n-koperasi-wajib-1
DTSTART:20241105T080000Z
DTEND:20241106T170000Z
LOCATION:Dalam Talian (Dalam Talian (Online))
SUMMARY:Pengurusan dan Pentadbiran Koperasi (Wajib 1)
URL:https://www.ikma.edu.my/ms/takwim-program/event/53-pengurusan-dan-penta
 dbiran-koperasi-wajib-1
END:VEVENT
END:VCALENDAR
