BEGIN:VCALENDAR
VERSION:2.0
PRODID:-//https://www.ikma.edu.my///NONSGML kigkonsult.se iCalcreator 2.10.15//
METHOD:PUBLISH
BEGIN:VEVENT
UID:20260419T190755UTC-6413SuipJr@https://www.ikma.edu.my/
DTSTAMP:20260419T190755Z
DESCRIPTION:\nMemberi kefahaman tentang pentadbiran koperasi\, asas pengaud
 itan dalaman\, kaedah penilaian risiko dan sistem kawalan dalaman.\nMember
 i kefahaman tentang keperluan Rangka Kerja Amalan Profesional Antarabangsa
 .\nMemberi pendedahan kaedah dan teknik pengauditan dalaman.\nMemberi peng
 etahuan penyediaan laporan audit yang berkualiti dan berkesan.\n https://w
 ww.ikma.edu.my/ms/takwim-program/event/46-audit-lanjutan-koperasi
DTSTART:20241021T080000Z
DTEND:20241024T170000Z
LOCATION:INSTITUT KOPERASI MALAYSIA\, PETALING JAYA  (INSTITUT KOPERASI MAL
 AYSIA\, PETALING JAYA )
SUMMARY:Audit Lanjutan Koperasi
URL:https://www.ikma.edu.my/ms/takwim-program/event/46-audit-lanjutan-koper
 asi
END:VEVENT
BEGIN:VEVENT
UID:20260419T190755UTC-6416UzR8oe@https://www.ikma.edu.my/
DTSTAMP:20260419T190755Z
DESCRIPTION:1. Memberi pendedahan pengurusan digitalisasi dalam koperasi.2.
  Memberi pemahaman peranan dan tanggungjawab kepimpinan digital di koperas
 i.3. Memberi pemahaman kaedah dan pengurusan digitalisasi koperasi untuk k
 ecekapan dan keberkesanan koperasi. https://www.ikma.edu.my/ms/takwim-prog
 ram/event/47-pengurusan-digitalisasi-koperasi
DTSTART:20241021T080000Z
DTEND:20241022T170000Z
LOCATION:INSTITUT KOPERASI MALAYSIA\, PETALING JAYA  (INSTITUT KOPERASI MAL
 AYSIA\, PETALING JAYA )
SUMMARY:Pengurusan Digitalisasi Koperasi
URL:https://www.ikma.edu.my/ms/takwim-program/event/47-pengurusan-digitalis
 asi-koperasi
END:VEVENT
BEGIN:VEVENT
UID:20260419T190755UTC-6417Fougjv@https://www.ikma.edu.my/
DTSTAMP:20260419T190755Z
DESCRIPTION:\nMemberi kefahaman dan pengetahuan mengenai asas dan konsep pe
 masaran digital serta content marketing yang dapat memberi impak kepada ra
 mai orang.\nMemberi kefahaman dan pengetahuan mengenai kemahiran mengiklan
 kan produk dan perkhidmatan di platform so\n https://www.ikma.edu.my/ms/ta
 kwim-program/event/48-sijil-eksekutif-pemasaran-digital
DTSTART:20241021T080000Z
DTEND:20241025T170000Z
LOCATION:IKMa PETALING JAYA (IKMa PETALING JAYA)
SUMMARY:Sijil Eksekutif Pemasaran Digital
URL:https://www.ikma.edu.my/ms/takwim-program/event/48-sijil-eksekutif-pema
 saran-digital
END:VEVENT
BEGIN:VEVENT
UID:20260419T190755UTC-6418Emp9su@https://www.ikma.edu.my/
DTSTAMP:20260419T190755Z
DESCRIPTION: Menganalisa kes undang-undang sebagai panduan dan perbandingan
  untuk menguruskan pertikaian koperasi https://www.ikma.edu.my/ms/takwim-p
 rogram/event/49-pengurusan-penyelesaian-pertikaian-koperasi
DTSTART;VALUE=DATE:20241023
LOCATION:INSTITUT KOPERASI MALAYSIA\, PETALING JAYA  (INSTITUT KOPERASI MAL
 AYSIA\, PETALING JAYA )
SUMMARY:Pengurusan Penyelesaian Pertikaian Koperasi
URL:https://www.ikma.edu.my/ms/takwim-program/event/49-pengurusan-penyelesa
 ian-pertikaian-koperasi
END:VEVENT
END:VCALENDAR
