BEGIN:VCALENDAR
VERSION:2.0
PRODID:-//https://www.ikma.edu.my///NONSGML kigkonsult.se iCalcreator 2.10.15//
METHOD:PUBLISH
BEGIN:VEVENT
UID:20260420T032604UTC-0573RMusWd@https://www.ikma.edu.my/
DTSTAMP:20260420T032604Z
DESCRIPTION:1.&amp\;nbsp\;Memberi kefahaman berkaitan peranan dan tanggungj
 awab Jawatankuasa Audit Dalam Koperasi.&lt\;br /&gt\;2.&amp\;nbsp\;Memberi
  pendedahan cara melaksanakan kerja audit dalaman menggunakan tatacara aud
 it yang sistematik&nbsp\; https://www.ikma.edu.my/ms/takwim-program/event/
 31-tatacara-pengauditan-dan-perakaunan-koperasi-wajib-jad
DTSTART:20240923T080000Z
DTEND:20240924T170000Z
LOCATION:INSTITUT KOPERASI MALAYSIA\, PETALING JAYA  (INSTITUT KOPERASI MAL
 AYSIA\, PETALING JAYA )
SUMMARY:Tatacara Pengauditan Dan Perakaunan Koperasi (Wajib JAD)
URL:https://www.ikma.edu.my/ms/takwim-program/event/31-tatacara-pengauditan
 -dan-perakaunan-koperasi-wajib-jad
END:VEVENT
BEGIN:VEVENT
UID:20260420T032604UTC-0575iXCv1W@https://www.ikma.edu.my/
DTSTAMP:20260420T032604Z
DESCRIPTION:\nMEMBERI PENGETAHUAN TENTANG KONSEP PEMASARAN DALAM PERNIAGAAN
 .\nMEMBERI KEFAHAMAN MENGENAI STRATEGI DAN ANALISIS PELUANG PEMASARAN YANG
  BOLEH DIGUNAKAN DALAM PERNIAGAAN.\nMENGENALPASTI KAEDAH PEMASARAN OFFLINE
  DAN ONLINE DALAM MENJALANKAN PERNIAGAAN\n https://www.ikma.edu.my/ms/takw
 im-program/event/32-strategi-pemasaran-efektif
DTSTART:20240923T080000Z
DTEND:20240924T170000Z
LOCATION:IKMa PETALING JAYA (IKMa PETALING JAYA)
SUMMARY:Strategi Pemasaran Efektif
URL:https://www.ikma.edu.my/ms/takwim-program/event/32-strategi-pemasaran-e
 fektif
END:VEVENT
BEGIN:VEVENT
UID:20260420T032604UTC-0577kx181w@https://www.ikma.edu.my/
DTSTAMP:20260420T032604Z
DESCRIPTION:1. Menguruskan kedai dalam talian di e-Marketplace secara efekt
 if.2. Meningkatkan pendapatan peserta melalui peluang yang ada di e-Market
 place. https://www.ikma.edu.my/ms/takwim-program/event/33-strategi-jualan-
 melalui-e-marketplace
DTSTART:20240923T080000Z
DTEND:20240925T170000Z
LOCATION:INSTITUT KOPERASI MALAYSIA\, PETALING JAYA  (INSTITUT KOPERASI MAL
 AYSIA\, PETALING JAYA )
SUMMARY:Strategi Jualan Melalui E-Marketplace
URL:https://www.ikma.edu.my/ms/takwim-program/event/33-strategi-jualan-mela
 lui-e-marketplace
END:VEVENT
BEGIN:VEVENT
UID:20260420T032604UTC-0579NHjMUr@https://www.ikma.edu.my/
DTSTAMP:20260420T032604Z
DESCRIPTION:1. Memberi pendedahan pengurusan digitalisasi dalam koperasi.2.
  Memberi pemahaman peranan dan tanggungjawab kepimpinan digital di koperas
 i.3. Memberi pemahaman kaedah dan pengurusan digitalisasi koperasi untuk k
 ecekapan dan keberkesanan koperasi.  https://www.ikma.edu.my/ms/takwim-pro
 gram/event/34-pengurusan-digitalisasi-koperasi
DTSTART:20240925T080000Z
DTEND:20240926T170000Z
LOCATION:INSTITUT KOPERASI MALAYSIA\, PETALING JAYA  (INSTITUT KOPERASI MAL
 AYSIA\, PETALING JAYA )
SUMMARY:Pengurusan Digitalisasi Koperasi
URL:https://www.ikma.edu.my/ms/takwim-program/event/34-pengurusan-digitalis
 asi-koperasi
END:VEVENT
BEGIN:VEVENT
UID:20260420T032604UTC-0581zAjvv6@https://www.ikma.edu.my/
DTSTAMP:20260420T032604Z
DESCRIPTION:1. PESERTA AKAN MENERANGKAN\, MENGANALISA\, MEMILIH &amp\; MENY
 USUN ATUR PROSES SERTA PROSEDUR KERJA YANG TERLIBAT DENGAN PENGURUSAN STOK
  ATAU INVENTORI BARANGAN NIAGA.2. PROGRAM INI SESUAI UNTUK KOPERATOR DAN U
 SAHAWAN YANG TERLIBAT DENGAN AKTIVITI MENGELUAR\, MENGEDAR &amp\; MENJUAL 
 PRODUK IAITU BARANGAN NIAGA\; TERMASUK YANG MEMILIKI PASAR MINI. https://w
 ww.ikma.edu.my/ms/takwim-program/event/35-pengurusan-stok-dan-inventori-ba
 rangan-niaga
DTSTART:20240925T080000Z
DTEND:20240926T170000Z
LOCATION:Sarawak (Sarawak)
SUMMARY:Pengurusan Stok dan Inventori Barangan Niaga
URL:https://www.ikma.edu.my/ms/takwim-program/event/35-pengurusan-stok-dan-
 inventori-barangan-niaga
END:VEVENT
BEGIN:VEVENT
UID:20260420T032604UTC-0583culagX@https://www.ikma.edu.my/
DTSTAMP:20260420T032604Z
DESCRIPTION:\nAnggota Lembaga Koperasi\nJawatankuasa Audit Dalaman\nAnggota
  JAwatankuasa Kecil Koperasi\nKakitangan Kanan Koperasi\nPegawai dari Agen
 si yang Menyelia Koperasi\nAnggota Koperasi\n https://www.ikma.edu.my/ms/t
 akwim-program/event/36-kepimpinan-strategik
DTSTART;VALUE=DATE:20240926
LOCATION:INSTITUT KOPERASI MALAYSIA\, PETALING JAYA  (INSTITUT KOPERASI MAL
 AYSIA\, PETALING JAYA )
SUMMARY:Kepimpinan Strategik
URL:https://www.ikma.edu.my/ms/takwim-program/event/36-kepimpinan-strategik
END:VEVENT
BEGIN:VEVENT
UID:20260420T032604UTC-0585G3huEs@https://www.ikma.edu.my/
DTSTAMP:20260420T032604Z
DESCRIPTION:HASIL PEMBELAJARAN• MENILAI POTENSI DAN PELUANG TANAMAN FERTIGA
 SI.• MENJELASKAN TEKNIK DAN SISTEM TERBAIK PENANAMAN FERTIGASI.• MENGAPLIK
 ASIKAN PENGURUSAN DAN KAEDAH TANAMAN FERTIGASI. https://www.ikma.edu.my/ms
 /takwim-program/event/37-fertigasi-tanaman-terpilih-cili
DTSTART;VALUE=DATE:20240929
LOCATION:Pusat Inkubator Behrang\, Perak (Pusat Inkubator Behrang\, Perak)
SUMMARY:Fertigasi Tanaman Terpilih (Cili)
URL:https://www.ikma.edu.my/ms/takwim-program/event/37-fertigasi-tanaman-te
 rpilih-cili
END:VEVENT
END:VCALENDAR
