BEGIN:VCALENDAR
VERSION:2.0
PRODID:-//https://www.ikma.edu.my///NONSGML kigkonsult.se iCalcreator 2.10.15//
METHOD:PUBLISH
BEGIN:VEVENT
UID:20260420T015450UTC-1642093lsU@https://www.ikma.edu.my/
DTSTAMP:20260420T015450Z
DESCRIPTION:1.&nbsp\;Memberi kefahaman indikator yang digunakan bagi mengan
 alisis prestasi kewangan koperasi.2.&nbsp\;Mengenal pasti maklumat kewanga
 n dan bukan kewangan yang diperlukan untuk membuat analisis. https://www.i
 kma.edu.my/ms/takwim-program/event/23-wajib-lanjutan-analisis-penyata-kewa
 ngan-untuk-pembuat-keputusan
DTSTART:20240902T080000Z
DTEND:20240903T170000Z
LOCATION:Dalam Talian (Dalam Talian (Online))
SUMMARY:Wajib Lanjutan : Analisis Penyata Kewangan Untuk Pembuat Keputusan
URL:https://www.ikma.edu.my/ms/takwim-program/event/23-wajib-lanjutan-anali
 sis-penyata-kewangan-untuk-pembuat-keputusan
END:VEVENT
BEGIN:VEVENT
UID:20260420T015450UTC-1644BGznVg@https://www.ikma.edu.my/
DTSTAMP:20260420T015450Z
DESCRIPTION:\nAnggota Lembaga Koperasi\nJawatankuasa Audit Dalaman\nAnggota
  JAwatankuasa Kecil Koperasi\nKakitangan Kanan Koperasi\nPegawai dari Agen
 si yang Menyelia Koperasi\nAnggota Koperasi\n https://www.ikma.edu.my/ms/t
 akwim-program/event/24-kepimpinan-strategik
DTSTART;VALUE=DATE:20240903
LOCATION:Seremban (Seremban)
SUMMARY:Kepimpinan Strategik
URL:https://www.ikma.edu.my/ms/takwim-program/event/24-kepimpinan-strategik
END:VEVENT
BEGIN:VEVENT
UID:20260420T015450UTC-1645SSBeUC@https://www.ikma.edu.my/
DTSTAMP:20260420T015450Z
DESCRIPTION:1. Memberi pendedahan pengurusan digitalisasi dalam koperasi.2.
  Memberi pemahaman peranan dan tanggungjawab kepimpinan digital di koperas
 i.3. Memberi pemahaman kaedah dan pengurusan digitalisasi koperasi untuk k
 ecekapan dan keberkesanan koperasi.  https://www.ikma.edu.my/ms/takwim-pro
 gram/event/25-pengurusan-digitalisasi-koperasi
DTSTART:20240903T080000Z
DTEND:20240904T170000Z
LOCATION:Dalam Talian (Dalam Talian (Online))
SUMMARY:Pengurusan Digitalisasi Koperasi
URL:https://www.ikma.edu.my/ms/takwim-program/event/25-pengurusan-digitalis
 asi-koperasi
END:VEVENT
END:VCALENDAR
