BEGIN:VCALENDAR
VERSION:2.0
PRODID:-//https://www.ikma.edu.my///NONSGML kigkonsult.se iCalcreator 2.10.15//
METHOD:PUBLISH
BEGIN:VEVENT
UID:20260420T031455UTC-3741NmSXfL@https://www.ikma.edu.my/
DTSTAMP:20260420T031455Z
DESCRIPTION:1. Menerangkan teknik penulisan copywriting\, mengaplikasikan t
 eknik menulis copywritinguntuk kandungan pemasaran yang efektif.2. Menghas
 ilkan ePoster dan video yang sesuai dengan kandungan pemasaran.  https://w
 ww.ikma.edu.my/ms/takwim-program/event/15-content-marketing-pemasaran-prod
 uk-secara-digital-copywriting
DTSTART:20240819T080000Z
DTEND:20240820T170000Z
LOCATION:INSTITUT KOPERASI MALAYSIA\, PETALING JAYA  (INSTITUT KOPERASI MAL
 AYSIA\, PETALING JAYA )
SUMMARY:Content Marketing - Pemasaran Produk Secara Digital (Copywriting)
URL:https://www.ikma.edu.my/ms/takwim-program/event/15-content-marketing-pe
 masaran-produk-secara-digital-copywriting
END:VEVENT
BEGIN:VEVENT
UID:20260420T031455UTC-374371oCIS@https://www.ikma.edu.my/
DTSTAMP:20260420T031455Z
DESCRIPTION:\nMEMBERI PENDEDAHAN KANVAS MODEL PERNIAGAAN KOPERASI\nMENGENAL
 PASTI ELEMEN DALAM KANVAS MODEL PERNIGAAN KOPERASI\nMENERANGKAN PROSES YAN
 G TERLIBAT DALAM MEMBANGUNKAN KANVAS MODEL PERNIAGAAN\n https://www.ikma.e
 du.my/ms/takwim-program/event/16-kanvas-model-perniagaan-koperasi-bmc
DTSTART:20240819T080000Z
DTEND:20240820T174343Z
LOCATION:IKMa PETALING JAYA (IKMa PETALING JAYA)
SUMMARY:Kanvas Model Perniagaan Koperasi (BMC)
URL:https://www.ikma.edu.my/ms/takwim-program/event/16-kanvas-model-perniag
 aan-koperasi-bmc
END:VEVENT
BEGIN:VEVENT
UID:20260420T031455UTC-3744kNph6N@https://www.ikma.edu.my/
DTSTAMP:20260420T031455Z
DESCRIPTION:\nMeningkatkan kefahaman mengenai kepentingan integriti dalam t
 adbir urus koperasi.\nMembudayakan nilai-nilai etika integriti dalam tadbi
 r urus.\nMeningkatkan keyakinan masyarakat terhadap imej gerakan koperasi.
 \n https://www.ikma.edu.my/ms/takwim-program/event/17-pengukuhan-integriti
 -dalam-tadbir-urus-koperasi
DTSTART:20240820T080000Z
DTEND:20240821T170000Z
LOCATION:Terengganu (Terengganu)
SUMMARY:Pengukuhan Integriti Dalam Tadbir Urus Koperasi
URL:https://www.ikma.edu.my/ms/takwim-program/event/17-pengukuhan-integriti
 -dalam-tadbir-urus-koperasi
END:VEVENT
BEGIN:VEVENT
UID:20260420T031455UTC-37457Vruz6@https://www.ikma.edu.my/
DTSTAMP:20260420T031455Z
DESCRIPTION: https://www.ikma.edu.my/ms/takwim-program/event/18-bengkel-fas
 t-pembangunan-audit-aset-biologi
DTSTART:20240820T080000Z
DTEND:20240822T170000Z
LOCATION:IKMa PETALING JAYA (IKMa PETALING JAYA)
SUMMARY:Bengkel Fast : Pembangunan Audit: Aset Biologi
URL:https://www.ikma.edu.my/ms/takwim-program/event/18-bengkel-fast-pembang
 unan-audit-aset-biologi
END:VEVENT
BEGIN:VEVENT
UID:20260420T031455UTC-3746SuADnw@https://www.ikma.edu.my/
DTSTAMP:20260420T031455Z
DESCRIPTION:\nCabaran\, Tren dan Peluang AI dalam Koperasi\nPeranan IKMa da
 lam AI\nBelajar pelbagai Aplikasi AI secara terus\nPerkongsian 'Aplikasi A
 I dalam Industri'\n https://www.ikma.edu.my/ms/takwim-program/event/58-
DTSTART:20240821T083000Z
DTEND:20240821T163000Z
LOCATION:HOTEL KINGS GREEN MELAKA ()
SUMMARY:𝐒𝐄𝐌𝐈𝐍𝐀𝐑 ‘𝐊𝐎𝐏𝐄𝐑𝐀𝐒𝐈 𝐏𝐈𝐍𝐓𝐀𝐑: 𝐊𝐄𝐌𝐀𝐉𝐔𝐀𝐍 𝐌𝐄𝐋𝐀𝐋𝐔𝐈 𝐊𝐄𝐂𝐄𝐑𝐃𝐀𝐒𝐀𝐍 𝐁𝐔𝐀𝐓𝐀𝐍 (𝐀𝐈)’
URL:https://www.ikma.edu.my/ms/takwim-program/event/58-
END:VEVENT
END:VCALENDAR
