BEGIN:VCALENDAR
VERSION:2.0
PRODID:-//https://www.ikma.edu.my///NONSGML kigkonsult.se iCalcreator 2.10.15//
METHOD:PUBLISH
BEGIN:VEVENT
UID:20260420T032604UTC-55128xbCHA@https://www.ikma.edu.my/
DTSTAMP:20260420T032604Z
DESCRIPTION:1. Mengenal pasti kaedah menggunakan Dashboard untuk analisis d
 ata koperasi.2. Menggunakan teknik-teknik membangunkan Excel Dashboard unt
 uk menganalisis data koperasi. https://www.ikma.edu.my/ms/takwim-program/e
 vent/12-analisis-data-koperasi
DTSTART:20240812T080000Z
DTEND:20240813T170000Z
LOCATION:INSTITUT KOPERASI MALAYSIA\, PETALING JAYA  (INSTITUT KOPERASI MAL
 AYSIA\, PETALING JAYA )
SUMMARY:Analisis Data Koperasi
URL:https://www.ikma.edu.my/ms/takwim-program/event/12-analisis-data-kopera
 si
END:VEVENT
BEGIN:VEVENT
UID:20260420T032604UTC-55143RT69P@https://www.ikma.edu.my/
DTSTAMP:20260420T032604Z
DESCRIPTION:1.Memberi pendedahan mengenai belanjawan untuk operasi koperasi
 .2.Menyediakan belanjawan untuk operasi koperasi.3.Memberi kefahaman menge
 nai belanjawan sebagai alat untuk mengawal operasi koperasi. https://www.i
 kma.edu.my/ms/takwim-program/event/13-wajib-lanjutan-penyediaan-belanjawan
DTSTART:20240813T080000Z
DTEND:20240814T170000Z
LOCATION:INSTITUT KOPERASI MALAYSIA\,PJ (INSTITUT KOPERASI MALAYSIA\,PJ)
SUMMARY:Wajib Lanjutan: Penyediaan Belanjawan
URL:https://www.ikma.edu.my/ms/takwim-program/event/13-wajib-lanjutan-penye
 diaan-belanjawan
END:VEVENT
BEGIN:VEVENT
UID:20260420T032604UTC-5515ANP1Te@https://www.ikma.edu.my/
DTSTAMP:20260420T032604Z
DESCRIPTION:1. MEMBERI PENDEDAHAN DAN KESEDARAN TENTANG APLIKASI DAN TEKNOL
 OGI AI2. MEMANFAATKAN POTENSI AI UNTUK KEPERLUAN KOPERASI https://www.ikma
 .edu.my/ms/takwim-program/event/14-technology-update-2024-kesedaran-ai-unt
 uk-koperasi-siri-6-keselamatan-data-privasi-ai
DTSTART;VALUE=DATE:20240815
LOCATION:FB PAGE INSTITUT KOPERASI MALAYSIA (FB PAGE INSTITUT KOPERASI MALA
 YSIA)
SUMMARY:Technology Update 2024: Kesedaran AI untuk Koperasi Siri 6: Keselam
 atan Data & Privasi AI
URL:https://www.ikma.edu.my/ms/takwim-program/event/14-technology-update-20
 24-kesedaran-ai-untuk-koperasi-siri-6-keselamatan-data-privasi-ai
END:VEVENT
END:VCALENDAR
