BEGIN:VCALENDAR
VERSION:2.0
PRODID:-//https://www.ikma.edu.my///NONSGML kigkonsult.se iCalcreator 2.10.15//
METHOD:PUBLISH
BEGIN:VEVENT
UID:20260420T031553UTC-766679uJeB@https://www.ikma.edu.my/
DTSTAMP:20260420T031553Z
DESCRIPTION:\nMEMBERI PENDEDAHAN KONSEP PENSIJILAN PRODUK &amp\; PREMIS DAL
 AM AKTIVITI PERNIAGAAN BORONG DAN RUNCIT\nMENERANGKAN KEPENTINGAN DAN KEPE
 RLUAN PENSIJILAN DALAM MEMPERKUKUH PEMASARAN PRODUK DAN AKTIVITI PERNIAGAA
 N KOPERASI\nMEMBERI PENDEDAHAN ASAS PROSES DA\n https://www.ikma.edu.my/ms
 /takwim-program/event/8-pensijilan-produk-dan-premis-perniagaan
DTSTART:20240805T080000Z
DTEND:20240806T170000Z
LOCATION:IKMa PETALING JAYA (IKMa PETALING JAYA)
SUMMARY:Pensijilan Produk dan Premis Perniagaan
URL:https://www.ikma.edu.my/ms/takwim-program/event/8-pensijilan-produk-dan
 -premis-perniagaan
END:VEVENT
BEGIN:VEVENT
UID:20260420T031553UTC-7668x0BzFs@https://www.ikma.edu.my/
DTSTAMP:20260420T031553Z
DESCRIPTION:\nMeningkatkan kefahaman mengenai kepentingan integriti dalam t
 adbir urus koperasi.\nMembudayakan nilai-nilai etika integriti dalam tadbi
 r urus.\nMeningkatkan keyakinan masyarakat terhadap imej gerakan koperasi.
 \n https://www.ikma.edu.my/ms/takwim-program/event/9-pengukuhan-integriti-
 dalam-tadbir-urus-koperasi
DTSTART:20240806T080000Z
DTEND:20240807T170000Z
LOCATION:INSTITUT KOPERASI MALAYSIA\, PETALING JAYA  (INSTITUT KOPERASI MAL
 AYSIA\, PETALING JAYA )
SUMMARY:Pengukuhan Integriti Dalam Tadbir Urus Koperasi
URL:https://www.ikma.edu.my/ms/takwim-program/event/9-pengukuhan-integriti-
 dalam-tadbir-urus-koperasi
END:VEVENT
BEGIN:VEVENT
UID:20260420T031553UTC-7671ZBMO7J@https://www.ikma.edu.my/
DTSTAMP:20260420T031553Z
DESCRIPTION:1. Memberi pendedahan data raya (Big Data) dan analisis data.2.
  Mengenalpasti alatan dan teknik data raya (Big Data) bagi kegunaan analis
 is data. 3. Memahami faedah dan penggunaan analisis data koperasi bagi men
 ingkatkan kecekapan dan keberkesanan koperasi. https://www.ikma.edu.my/ms/
 takwim-program/event/11-analitik-data-raya
DTSTART:20240806T080000Z
DTEND:20240807T170000Z
LOCATION:IKMa PETALING JAYA (IKMa PETALING JAYA)
SUMMARY:Analitik Data Raya
URL:https://www.ikma.edu.my/ms/takwim-program/event/11-analitik-data-raya
END:VEVENT
END:VCALENDAR
