BEGIN:VCALENDAR
VERSION:2.0
PRODID:-//https://www.ikma.edu.my///NONSGML kigkonsult.se iCalcreator 2.10.15//
METHOD:PUBLISH
BEGIN:VEVENT
UID:20260420T044905UTC-1607U1P3bl@https://www.ikma.edu.my/
DTSTAMP:20260420T044905Z
DESCRIPTION:1. Memberi pendedahan data raya (Big Data) dan analisis data.2.
  Mengenalpasti alatan dan teknik data raya (Big Data) bagi kegunaan analis
 is data. 3. Memahami faedah dan penggunaan analisis data koperasi bagi men
 ingkatkan kecekapan dan keberkesanan koperasi. https://www.ikma.edu.my/ms/
 takwim-program/event/2-analitik-data-raya
DTSTART:20240724T080000Z
DTEND:20240725T170000Z
LOCATION:IKMa PETALING JAYA (IKMa PETALING JAYA)
SUMMARY:Analitik Data Raya
URL:https://www.ikma.edu.my/ms/takwim-program/event/2-analitik-data-raya
END:VEVENT
BEGIN:VEVENT
UID:20260420T044905UTC-1610sg5SsZ@https://www.ikma.edu.my/
DTSTAMP:20260420T044905Z
DESCRIPTION:Hasil pembelajaran:\n\nMenilai potensi dan peluang projek tanam
 an kelapa.\nMenjelaskan kaedah pembajaan dan kawalan penyakit.\nMengaplika
 sikan pengurusan dan kaedah tanaman kelapa.\n https://www.ikma.edu.my/ms/t
 akwim-program/event/3-pengurusan-projek-tanaman-kelapa
DTSTART;VALUE=DATE:20240725
LOCATION:IKMa PETALING JAYA (IKMa PETALING JAYA)
SUMMARY:Pengurusan Projek Tanaman Kelapa
URL:https://www.ikma.edu.my/ms/takwim-program/event/3-pengurusan-projek-tan
 aman-kelapa
END:VEVENT
END:VCALENDAR
