BEGIN:VCALENDAR
VERSION:2.0
PRODID:-//https://www.ikma.edu.my///NONSGML kigkonsult.se iCalcreator 2.10.15//
METHOD:PUBLISH
BEGIN:VEVENT
UID:20260419T134829UTC-9606vCStri@https://www.ikma.edu.my/
DTSTAMP:20260419T134829Z
DESCRIPTION:\n\nPeserta akan dapat menjelaskan berkaitan ciri-ciri pentadbi
 ran koperasi serta amalan pengurusan yang baik.\n\n\nMengaplikasikan penta
 dbiran koperasi mengikut undang-undang.\n\n https://www.ikma.edu.my/ms/tak
 wim-program/event/79-pengurusan-dan-pentadbiran-koperasi-wajib-1
DTSTART:20250218T080000Z
DTEND:20250219T170000Z
LOCATION:IKMa Zon Sabah (Institut Koperasi Malaysia (IKMa) Zon Sabah)
SUMMARY:Pengurusan Dan Pentadbiran Koperasi (Wajib 1)
URL:https://www.ikma.edu.my/ms/takwim-program/event/79-pengurusan-dan-penta
 dbiran-koperasi-wajib-1
END:VEVENT
END:VCALENDAR
