BEGIN:VCALENDAR
VERSION:2.0
PRODID:-//https://www.ikma.edu.my///NONSGML kigkonsult.se iCalcreator 2.10.15//
METHOD:PUBLISH
BEGIN:VEVENT
UID:20260419T133427UTC-2654mubUke@https://www.ikma.edu.my/
DTSTAMP:20260419T133427Z
DESCRIPTION:\n\nMenyenaraikan tanggungjawab ALK dalam pengurusan kewangan.
 \n\n\nMenjelaskan fungsi setiap penyata kewangan koperasi.\n\n\nMenerangka
 n aspek pengurusan modal kerja koperasi.\n\n https://www.ikma.edu.my/ms/ta
 kwim-program/event/75-pengurusan-kewangan-koperasi-wajib-2
DTSTART:20250217T080000Z
DTEND:20250218T170000Z
LOCATION:IKMa Zon Sarawak ()
SUMMARY:Pengurusan Kewangan Koperasi (Wajib 2)
URL:https://www.ikma.edu.my/ms/takwim-program/event/75-pengurusan-kewangan-
 koperasi-wajib-2
END:VEVENT
END:VCALENDAR
