BEGIN:VCALENDAR
VERSION:2.0
PRODID:-//https://www.ikma.edu.my///NONSGML kigkonsult.se iCalcreator 2.10.15//
METHOD:PUBLISH
BEGIN:VEVENT
UID:20260419T133351UTC-3682xZx3vw@https://www.ikma.edu.my/
DTSTAMP:20260419T133351Z
DESCRIPTION:\n\nMemahami kepentingan penubuhan koperasi dan manfaatnya berd
 asarkan undang-undang\, prinsip dan falsafah koperasi.\n\n\nMenjelaskan ko
 mponen dalam pentadbiran koperasi dan pembuatan.\n\n\nMerancang tentang ke
 pentingan perakaunan\, mengurus perniagaan dan adaptasidigital dalam mengu
 rus koperasi.\n\n https://www.ikma.edu.my/ms/takwim-program/event/70-asas-
 mengurus-koperasi-baharu
DTSTART:20250212T080000Z
DTEND:20250213T170000Z
LOCATION:IKMa Cawangan Tawau ()
SUMMARY:ASAS MENGURUS KOPERASI BAHARU
URL:https://www.ikma.edu.my/ms/takwim-program/event/70-asas-mengurus-kopera
 si-baharu
END:VEVENT
END:VCALENDAR
