BEGIN:VCALENDAR
VERSION:2.0
PRODID:-//https://www.ikma.edu.my///NONSGML kigkonsult.se iCalcreator 2.10.15//
METHOD:PUBLISH
BEGIN:VEVENT
UID:20260425T214508UTC-3416oVsplz@https://www.ikma.edu.my/
DTSTAMP:20260425T214508Z
DESCRIPTION:\nMemahami kepentingan undang-undang kecil koperasi dan mengapl
 ikasikan pematuhan terhadap undang-undang kecil koperasi.\n https://www.ik
 ma.edu.my/ms/takwim-program/event/311-memahami-undang-undang-kecil-koperas
 i
DTSTART:20250826T080000Z
DTEND:20250826T170000Z
LOCATION:Dalam Talian (Dalam Talian (Online))
SUMMARY:MEMAHAMI UNDANG-UNDANG KECIL KOPERASI
URL:https://www.ikma.edu.my/ms/takwim-program/event/311-memahami-undang-und
 ang-kecil-koperasi
END:VEVENT
END:VCALENDAR
