BEGIN:VCALENDAR
VERSION:2.0
PRODID:-//https://www.ikma.edu.my///NONSGML kigkonsult.se iCalcreator 2.10.15//
METHOD:PUBLISH
BEGIN:VEVENT
UID:20260425T214342UTC-0569RrdDaf@https://www.ikma.edu.my/
DTSTAMP:20260425T214342Z
DESCRIPTION:\nMemberi pendedahan tentang kegunaan perisian Microsoft Word d
 an Microsoft Powerpoint dalam membantu meningkatkan produktiviti.\nMengapl
 ikasikan teknik-teknik penggunaan Microsoft Word dan Microsoft PowerPoint 
 untuk membuat dokumen\, memanipulasi dan menghasilkan persembahan yang ber
 kesan.\n https://www.ikma.edu.my/ms/takwim-program/event/306-pemasaran-pro
 duk-media-digital-digital-marketing
DTSTART:20250826T080000Z
DTEND:20250827T170000Z
LOCATION:IKMa Ipoh ()
SUMMARY:PEMASARAN PRODUK: MEDIA DIGITAL (DIGITAL MARKETING)
URL:https://www.ikma.edu.my/ms/takwim-program/event/306-pemasaran-produk-me
 dia-digital-digital-marketing
END:VEVENT
END:VCALENDAR
