BEGIN:VCALENDAR
VERSION:2.0
PRODID:-//https://www.ikma.edu.my///NONSGML kigkonsult.se iCalcreator 2.10.15//
METHOD:PUBLISH
BEGIN:VEVENT
UID:20260425T132738UTC-3454jgPVCP@https://www.ikma.edu.my/
DTSTAMP:20260425T132738Z
DESCRIPTION:\nMemahami piawaian perakaunan dan tatacara yang perlu dipatuhi
  oleh koperasi mengikut Akta Koperasi 1993.\nMenilai kandungan penyata kew
 angan berdasarkan piawaian dan tatacara yang ditetapkan.\n https://www.ikm
 a.edu.my/ms/takwim-program/event/302-piawaian-pelaporan-perakaunan-koperas
 i
DTSTART:20250820T080000Z
DTEND:20250821T170000Z
LOCATION:IKMa Zon Selatan ()
SUMMARY:Piawaian Pelaporan Perakaunan Koperasi
URL:https://www.ikma.edu.my/ms/takwim-program/event/302-piawaian-pelaporan-
 perakaunan-koperasi
END:VEVENT
END:VCALENDAR
