BEGIN:VCALENDAR
VERSION:2.0
PRODID:-//https://www.ikma.edu.my///NONSGML kigkonsult.se iCalcreator 2.10.15//
METHOD:PUBLISH
BEGIN:VEVENT
UID:20260425T014504UTC-8345ghbCMA@https://www.ikma.edu.my/
DTSTAMP:20260425T014504Z
DESCRIPTION:\nMenyediakan minit mesyuarat mengikut format yang praktikal da
 n berkesan.\nMenjadi sumber rujukan dan penyumbang kepada kejayaan sesuatu
  mesyuarat.\n https://www.ikma.edu.my/ms/takwim-program/event/291-teknik-p
 enulisan-minit-mesyuarat
DTSTART:20250812T080000Z
DTEND:20250812T170000Z
LOCATION:IKMa Kuala Terengganu ()
SUMMARY:TEKNIK PENULISAN MINIT MESYUARAT
URL:https://www.ikma.edu.my/ms/takwim-program/event/291-teknik-penulisan-mi
 nit-mesyuarat
END:VEVENT
END:VCALENDAR
