BEGIN:VCALENDAR
VERSION:2.0
PRODID:-//https://www.ikma.edu.my///NONSGML kigkonsult.se iCalcreator 2.10.15//
METHOD:PUBLISH
BEGIN:VEVENT
UID:20260425T001046UTC-7588vmnoOB@https://www.ikma.edu.my/
DTSTAMP:20260425T001046Z
DESCRIPTION:\nMenjelaskan berkaitan ciri-ciri pentadbiran koperasi serta am
 alan pengurusan yang baik\; \nMengaplikasikan pentadbiran koperasi mengiku
 t undang-undang.\n https://www.ikma.edu.my/ms/takwim-program/event/288-pen
 gurusan-dan-pentadbiran-koperasi-wajib-1
DTSTART:20250812T080000Z
DTEND:20250813T170000Z
LOCATION:IKMa Batu Pahat ()
SUMMARY:Pengurusan dan Pentadbiran Koperasi (Wajib 1)
URL:https://www.ikma.edu.my/ms/takwim-program/event/288-pengurusan-dan-pent
 adbiran-koperasi-wajib-1
END:VEVENT
END:VCALENDAR
