BEGIN:VCALENDAR
VERSION:2.0
PRODID:-//https://www.ikma.edu.my///NONSGML kigkonsult.se iCalcreator 2.10.15//
METHOD:PUBLISH
BEGIN:VEVENT
UID:20260424T111613UTC-2967uKB0ZE@https://www.ikma.edu.my/
DTSTAMP:20260424T111613Z
DESCRIPTION:\nMenerangkan konsep\, jenis dan pengiktirafan pensijilan produ
 k dalam perniagaan serta aspek pengurusan keselamatan makanan.\n https://w
 ww.ikma.edu.my/ms/takwim-program/event/277-pensijilan-produk-dan-premis-pe
 rniagaan
DTSTART:20250805T080000Z
DTEND:20250806T170000Z
LOCATION:IKMa PETALING JAYA (IKMa PETALING JAYA)
SUMMARY:Pensijilan Produk Dan Premis Perniagaan
URL:https://www.ikma.edu.my/ms/takwim-program/event/277-pensijilan-produk-d
 an-premis-perniagaan
END:VEVENT
END:VCALENDAR
