BEGIN:VCALENDAR
VERSION:2.0
PRODID:-//https://www.ikma.edu.my///NONSGML kigkonsult.se iCalcreator 2.10.15//
METHOD:PUBLISH
BEGIN:VEVENT
UID:20260424T111901UTC-3082rmKsoG@https://www.ikma.edu.my/
DTSTAMP:20260424T111901Z
DESCRIPTION:\nMenjelaskan kepentingan indikator yang sesuai digunakan bagi 
 menganalisis prestasi kewangan koperasi.\nMenggunakan kaedah analisis bagi
  menilai prestasi kewangan koperasi.\n https://www.ikma.edu.my/ms/takwim-p
 rogram/event/275-wajib-plus-analisis-penyata-kewangan-untuk-pembuatan-kepu
 tusan
DTSTART:20250805T080000Z
DTEND:20250806T170000Z
LOCATION:IKMa Cawangan Kuala Terengganu ()
SUMMARY:WAJIB PLUS - ANALISIS PENYATA KEWANGAN UNTUK PEMBUATAN KEPUTUSAN
URL:https://www.ikma.edu.my/ms/takwim-program/event/275-wajib-plus-analisis
 -penyata-kewangan-untuk-pembuatan-keputusan
END:VEVENT
END:VCALENDAR
