BEGIN:VCALENDAR
VERSION:2.0
PRODID:-//https://www.ikma.edu.my///NONSGML kigkonsult.se iCalcreator 2.10.15//
METHOD:PUBLISH
BEGIN:VEVENT
UID:20260423T233642UTC-82505vv8SN@https://www.ikma.edu.my/
DTSTAMP:20260423T233642Z
DESCRIPTION:\nMenjelaskan maksud dan fungsi belanjawan terhadap operasi kop
 erasi.\nMengenal pasti kaedah menyediakan belanjawan untuk operasi koperas
 i.\nMenggunakan belanjawan sebagai alat untuk mengawal operasi koperasi.\n
  https://www.ikma.edu.my/ms/takwim-program/event/265-wajib-plus-penyediaan
 -belanjawan-koperasi
DTSTART:20250728T080000Z
DTEND:20250729T170000Z
LOCATION:IKMa PETALING JAYA (IKMa PETALING JAYA)
SUMMARY:Wajib Plus: Penyediaan Belanjawan Koperasi
URL:https://www.ikma.edu.my/ms/takwim-program/event/265-wajib-plus-penyedia
 an-belanjawan-koperasi
END:VEVENT
END:VCALENDAR
