BEGIN:VCALENDAR
VERSION:2.0
PRODID:-//https://www.ikma.edu.my///NONSGML kigkonsult.se iCalcreator 2.10.15//
METHOD:PUBLISH
BEGIN:VEVENT
UID:20260423T191910UTC-9172RGVXvr@https://www.ikma.edu.my/
DTSTAMP:20260423T191910Z
DESCRIPTION:\nPeserta dapat meningkatkan kefahaman tentang kelebihan Artifi
 cial Intelligence (AI) dalam keberkesanan pemasaran\, serta teknik-teknik 
 praktikal untuk melaksanakan strategi pemasaran yang lebih berkesan dengan
  bantuan teknologi AI.\n https://www.ikma.edu.my/ms/takwim-program/event/2
 63-menakluk-pasaran-dengan-teknologi-ai
DTSTART:20250726T080000Z
DTEND:20250727T170000Z
LOCATION:IKMa PETALING JAYA (IKMa PETALING JAYA)
SUMMARY:MENAKLUK PASARAN DENGAN TEKNOLOGI AI
URL:https://www.ikma.edu.my/ms/takwim-program/event/263-menakluk-pasaran-de
 ngan-teknologi-ai
END:VEVENT
END:VCALENDAR
