BEGIN:VCALENDAR
VERSION:2.0
PRODID:-//https://www.ikma.edu.my///NONSGML kigkonsult.se iCalcreator 2.10.15//
METHOD:PUBLISH
BEGIN:VEVENT
UID:20260423T150414UTC-9062UmU4zu@https://www.ikma.edu.my/
DTSTAMP:20260423T150414Z
DESCRIPTION:\nMengetahui kepentingan\, panduan penyediaan serta membangunka
 n prosedur aktiviti perniagaan.\n https://www.ikma.edu.my/ms/takwim-progra
 m/event/261-piawaian-prosedur-operasi-sop-aktiviti-perniagaan
DTSTART:20250723T080000Z
DTEND:20250723T170000Z
LOCATION:Dalam Talian (Dalam Talian (Online))
SUMMARY:Piawaian Prosedur Operasi (SOP) Aktiviti Perniagaan
URL:https://www.ikma.edu.my/ms/takwim-program/event/261-piawaian-prosedur-o
 perasi-sop-aktiviti-perniagaan
END:VEVENT
END:VCALENDAR
