BEGIN:VCALENDAR
VERSION:2.0
PRODID:-//https://www.ikma.edu.my///NONSGML kigkonsult.se iCalcreator 2.10.15//
METHOD:PUBLISH
BEGIN:VEVENT
UID:20260423T002731UTC-5871BOL0vv@https://www.ikma.edu.my/
DTSTAMP:20260423T002731Z
DESCRIPTION:\nMenyenaraikan tanggungjawab ALK dalam pengurusan kewangan.\nM
 enjelaskan fungsi setiap penyata kewangan koperasi\nMenerangkan aspek peng
 urusan modal kerja koperasi.\n https://www.ikma.edu.my/ms/takwim-program/e
 vent/250-pengurusan-kewangan-koperasi-wajib-2
DTSTART:20250715T080000Z
DTEND:20250716T170000Z
LOCATION:IKMa Tamarind Square\, Cyberjaya ()
SUMMARY:Pengurusan Kewangan Koperasi (Wajib 2)
URL:https://www.ikma.edu.my/ms/takwim-program/event/250-pengurusan-kewangan
 -koperasi-wajib-2
END:VEVENT
END:VCALENDAR
