BEGIN:VCALENDAR
VERSION:2.0
PRODID:-//https://www.ikma.edu.my///NONSGML kigkonsult.se iCalcreator 2.10.15//
METHOD:PUBLISH
BEGIN:VEVENT
UID:20260423T002835UTC-6466pgn23j@https://www.ikma.edu.my/
DTSTAMP:20260423T002835Z
DESCRIPTION:\nPeserta dapat memahami dengan lebih mendalam tentang pelbagai
  kaedah pemasaran melalui media sosial yang boleh diaplikasikan dalam pern
 iagaan mereka.\nPeserta dapat mengaplikasikan teknik pemasaran yang efekti
 f yang boleh diterapkan khususnya melalui aplikasi TikTok.\n https://www.i
 kma.edu.my/ms/takwim-program/event/247-strategi-tiktok-dari-zero-ke-hero-d
 alam-pemasaran-digital
DTSTART:20250715T080000Z
DTEND:20250716T170000Z
LOCATION:IKMa PETALING JAYA (IKMa PETALING JAYA)
SUMMARY:STRATEGI TIKTOK: DARI ZERO KE HERO DALAM PEMASARAN DIGITAL
URL:https://www.ikma.edu.my/ms/takwim-program/event/247-strategi-tiktok-dar
 i-zero-ke-hero-dalam-pemasaran-digital
END:VEVENT
END:VCALENDAR
