BEGIN:VCALENDAR
VERSION:2.0
PRODID:-//https://www.ikma.edu.my///NONSGML kigkonsult.se iCalcreator 2.10.15//
METHOD:PUBLISH
BEGIN:VEVENT
UID:20260422T230332UTC-9641fDp2Ba@https://www.ikma.edu.my/
DTSTAMP:20260422T230332Z
DESCRIPTION:\nMenjelaskan konsep penjenamaan\, pembungkusan dan pelabelan s
 erta menerangkan kaedah pemilihan jenama\, pelabelan dan jenis pembungkusa
 n produk.\n https://www.ikma.edu.my/ms/takwim-program/event/244-penjenamaa
 n-pembungkusan-dan-pelabelan-produk
DTSTART:20250714T080000Z
DTEND:20250715T170000Z
LOCATION:Dalam Talian (Dalam Talian (Online))
SUMMARY:Penjenamaan\, Pembungkusan Dan Pelabelan Produk
URL:https://www.ikma.edu.my/ms/takwim-program/event/244-penjenamaan-pembung
 kusan-dan-pelabelan-produk
END:VEVENT
END:VCALENDAR
