BEGIN:VCALENDAR
VERSION:2.0
PRODID:-//https://www.ikma.edu.my///NONSGML kigkonsult.se iCalcreator 2.10.15//
METHOD:PUBLISH
BEGIN:VEVENT
UID:20260422T131012UTC-8376VALWtp@https://www.ikma.edu.my/
DTSTAMP:20260422T131012Z
DESCRIPTION:\nMeningkatkan kefahaman peserta untuk mengadaptasi dan melaksa
 nakan proses digitalisasi secara efektif\, sekali gus menyumbang kepada ke
 jayaan strategik koperasi dalam era digital.\n https://www.ikma.edu.my/ms/
 takwim-program/event/238-wajib-plus-transformasi-koperasi-strategi-penguru
 san-digitalisasi-koperasi
DTSTART:20250708T080000Z
DTEND:20250709T170000Z
LOCATION:IKMa Zon Timur ()
SUMMARY:WAJIB PLUS - TRANSFORMASI KOPERASI: STRATEGI  PENGURUSAN DIGITALISA
 SI KOPERASI
URL:https://www.ikma.edu.my/ms/takwim-program/event/238-wajib-plus-transfor
 masi-koperasi-strategi-pengurusan-digitalisasi-koperasi
END:VEVENT
END:VCALENDAR
