BEGIN:VCALENDAR
VERSION:2.0
PRODID:-//https://www.ikma.edu.my///NONSGML kigkonsult.se iCalcreator 2.10.15//
METHOD:PUBLISH
BEGIN:VEVENT
UID:20260421T153330UTC-2101SvUKi5@https://www.ikma.edu.my/
DTSTAMP:20260421T153330Z
DESCRIPTION:\nMenjelaskan berkaitan ciri-ciri pentadbiran koperasi serta am
 alan pengurusan yang baik\;\nMengaplikasikan pentadbiran koperasi mengikut
  undang-undang.\n https://www.ikma.edu.my/ms/takwim-program/event/220-peng
 urusan-dan-pentadbiran-koperasi-wajib-1
DTSTART:20250624T080000Z
DTEND:20250625T170000Z
LOCATION:IKMa Bangi ()
SUMMARY:Pengurusan dan Pentadbiran Koperasi (Wajib 1)
URL:https://www.ikma.edu.my/ms/takwim-program/event/220-pengurusan-dan-pent
 adbiran-koperasi-wajib-1
END:VEVENT
END:VCALENDAR
