BEGIN:VCALENDAR
VERSION:2.0
PRODID:-//https://www.ikma.edu.my///NONSGML kigkonsult.se iCalcreator 2.10.15//
METHOD:PUBLISH
BEGIN:VEVENT
UID:20260421T153414UTC-6507LiD5f9@https://www.ikma.edu.my/
DTSTAMP:20260421T153414Z
DESCRIPTION:\nMeningkatkan kefahaman peserta mengenai kaedah pemasaran medi
 a sosial yang berkesan bagi perniagaan\, serta membekalkan mereka dengan k
 emahiran praktikal dalam menerapkan teknik pemasaran yang efektif melalui 
 aplikasi TikTok.\n https://www.ikma.edu.my/ms/takwim-program/event/216-str
 ategi-tiktok-dari-zero-ke-hero-dalam-pemasaran-digital
DTSTART:20250624T080000Z
DTEND:20250625T170000Z
LOCATION:IKMa Cawangan Kuala Terengganu ()
SUMMARY:STRATEGI TikTok: DARI ZERO KE HERO DALAM PEMASARAN DIGITAL
URL:https://www.ikma.edu.my/ms/takwim-program/event/216-strategi-tiktok-dar
 i-zero-ke-hero-dalam-pemasaran-digital
END:VEVENT
END:VCALENDAR
