BEGIN:VCALENDAR
VERSION:2.0
PRODID:-//https://www.ikma.edu.my///NONSGML kigkonsult.se iCalcreator 2.10.15//
METHOD:PUBLISH
BEGIN:VEVENT
UID:20260421T140701UTC-12926eC0XT@https://www.ikma.edu.my/
DTSTAMP:20260421T140701Z
DESCRIPTION:\nMemahami kepentingan undang-undang kecil koperasi.\nMengaplik
 asikan pematuhan terhadap undang-undang kecil koperasi.\n https://www.ikma
 .edu.my/ms/takwim-program/event/210-memahami-undang-undang-kecil-koperasi
DTSTART:20250623T080000Z
DTEND:20250624T170000Z
LOCATION:Dalam Talian (Dalam Talian (Online))
SUMMARY:Memahami Undang-Undang Kecil Koperasi
URL:https://www.ikma.edu.my/ms/takwim-program/event/210-memahami-undang-und
 ang-kecil-koperasi
END:VEVENT
END:VCALENDAR
