BEGIN:VCALENDAR
VERSION:2.0
PRODID:-//https://www.ikma.edu.my///NONSGML kigkonsult.se iCalcreator 2.10.15//
METHOD:PUBLISH
BEGIN:VEVENT
UID:20260421T053409UTC-1994tkkxPE@https://www.ikma.edu.my/
DTSTAMP:20260421T053409Z
DESCRIPTION:\nMengetahui proses\, elemen dan kaedah membangunkan kertas ker
 ja Rancangan Perniagaan serta cara penyediaan rancangan perniagaan melalui
  Kecerdasan Buatan (AI).\n https://www.ikma.edu.my/ms/takwim-program/event
 /207-kertas-kerja-rancangan-perniagaan
DTSTART:20250618T080000Z
DTEND:20250619T170000Z
LOCATION:IKMa Cawangan Tawau ()
SUMMARY:KERTAS KERJA RANCANGAN PERNIAGAAN
URL:https://www.ikma.edu.my/ms/takwim-program/event/207-kertas-kerja-rancan
 gan-perniagaan
END:VEVENT
END:VCALENDAR
