BEGIN:VCALENDAR
VERSION:2.0
PRODID:-//https://www.ikma.edu.my///NONSGML kigkonsult.se iCalcreator 2.10.15//
METHOD:PUBLISH
BEGIN:VEVENT
UID:20260419T151732UTC-37053wPib9@https://www.ikma.edu.my/
DTSTAMP:20260419T151732Z
DESCRIPTION:\nMenjelaskan berkaitan tadbir urus Syariah.\nMengaplikasikan t
 adbir urus syariah dalam operasi koperasi.\n https://www.ikma.edu.my/ms/ta
 kwim-program/event/185-tadbir-urus-syariah
DTSTART:20250527T080000Z
DTEND:20250527T170000Z
LOCATION:IKMa PETALING JAYA (IKMa PETALING JAYA)
SUMMARY:Tadbir Urus Syariah
URL:https://www.ikma.edu.my/ms/takwim-program/event/185-tadbir-urus-syariah
END:VEVENT
END:VCALENDAR
