BEGIN:VCALENDAR
VERSION:2.0
PRODID:-//https://www.ikma.edu.my///NONSGML kigkonsult.se iCalcreator 2.10.15//
METHOD:PUBLISH
BEGIN:VEVENT
UID:20260419T134945UTC-9071w0UUFR@https://www.ikma.edu.my/
DTSTAMP:20260419T134945Z
DESCRIPTION:\nMenerangkan konsep dan prospek perniagaan produk OEM dalam pa
 saran serta mempraktikkan kaedah pemprosesan produk OEM mengikut spesifika
 si yang betul.\n https://www.ikma.edu.my/ms/takwim-program/event/179-poten
 si-perniagaan-produk-oem
DTSTART:20250526T080000Z
DTEND:20250527T170000Z
LOCATION:IKMa PETALING JAYA (IKMa PETALING JAYA)
SUMMARY:Potensi Perniagaan Produk OEM
URL:https://www.ikma.edu.my/ms/takwim-program/event/179-potensi-perniagaan-
 produk-oem
END:VEVENT
END:VCALENDAR
