BEGIN:VCALENDAR
VERSION:2.0
PRODID:-//https://www.ikma.edu.my///NONSGML kigkonsult.se iCalcreator 2.10.15//
METHOD:PUBLISH
BEGIN:VEVENT
UID:20260419T135100UTC-01028AS5hs@https://www.ikma.edu.my/
DTSTAMP:20260419T135100Z
DESCRIPTION:\nPeserta dapat meningkatkan kemahiran menghasilkan video pemas
 aran yang menarik menggunakan telefon pintar\, serta mengaplikasikan tekni
 k video viral yang berkesan untuk menarik perhatian dan meningkatkan keter
 libatan di media sosial.\n https://www.ikma.edu.my/ms/takwim-program/event
 /178-tips-trik-penggambaran-video-profesional-dengan-smartphone
DTSTART:20250526T080000Z
DTEND:20250528T170000Z
LOCATION:IKMa PETALING JAYA (IKMa PETALING JAYA)
SUMMARY:TIPS & TRIK PENGGAMBARAN VIDEO PROFESIONAL DENGAN SMARTPHONE
URL:https://www.ikma.edu.my/ms/takwim-program/event/178-tips-trik-penggamba
 ran-video-profesional-dengan-smartphone
END:VEVENT
END:VCALENDAR
