BEGIN:VCALENDAR
VERSION:2.0
PRODID:-//https://www.ikma.edu.my///NONSGML kigkonsult.se iCalcreator 2.10.15//
METHOD:PUBLISH
BEGIN:VEVENT
UID:20260420T123848UTC-9226jn3gLC@https://www.ikma.edu.my/
DTSTAMP:20260420T123848Z
DESCRIPTION:\nMenerangkan konsep\, elemen dan teknik yang terdapat dalam pe
 ngurusan projek.\n https://www.ikma.edu.my/ms/takwim-program/event/152-waj
 ib-plus-pengurusan-projek-koperasi-secara-efektif
DTSTART:20250508T080000Z
DTEND:20250508T170000Z
LOCATION:IKMa PETALING JAYA (IKMa PETALING JAYA)
SUMMARY:Wajib Plus - Pengurusan Projek Koperasi Secara Efektif
URL:https://www.ikma.edu.my/ms/takwim-program/event/152-wajib-plus-pengurus
 an-projek-koperasi-secara-efektif
END:VEVENT
END:VCALENDAR
