BEGIN:VCALENDAR
VERSION:2.0
PRODID:-//https://www.ikma.edu.my///NONSGML kigkonsult.se iCalcreator 2.10.15//
METHOD:PUBLISH
BEGIN:VEVENT
UID:20260420T123431UTC-58495Jzv51@https://www.ikma.edu.my/
DTSTAMP:20260420T123431Z
DESCRIPTION:\nMemahami konsep zakat koperasi.\nMentaksirkan dan melaksanaka
 n peruntukan zakat koperasi.\nMenyediakan format pengiraan zakat berdasark
 an kaedah modal berkembang urfiyyah dan modal kerja syar’iyyah.\n https://
 www.ikma.edu.my/ms/takwim-program/event/151-pengiraan-zakat-koperasi
DTSTART:20250508T080000Z
DTEND:20250508T170000Z
LOCATION:IKMa PETALING JAYA (IKMa PETALING JAYA)
SUMMARY:Pengiraan Zakat Koperasi
URL:https://www.ikma.edu.my/ms/takwim-program/event/151-pengiraan-zakat-kop
 erasi
END:VEVENT
END:VCALENDAR
