BEGIN:VCALENDAR
VERSION:2.0
PRODID:-//https://www.ikma.edu.my///NONSGML kigkonsult.se iCalcreator 2.10.15//
METHOD:PUBLISH
BEGIN:VEVENT
UID:20260420T124200UTC-235699NNbn@https://www.ikma.edu.my/
DTSTAMP:20260420T124200Z
DESCRIPTION:\nMengenal pasti hala tuju\, konsep dan proses-proses penting d
 alam pengurusan strategik\n https://www.ikma.edu.my/ms/takwim-program/even
 t/149-pengurusan-strategik-wajib-3
DTSTART:20250507T080000Z
DTEND:20250508T170000Z
LOCATION:IKMa Zon Timur ()
SUMMARY:Pengurusan Strategik (Wajib 3)
URL:https://www.ikma.edu.my/ms/takwim-program/event/149-pengurusan-strategi
 k-wajib-3
END:VEVENT
END:VCALENDAR
