BEGIN:VCALENDAR
VERSION:2.0
PRODID:-//https://www.ikma.edu.my///NONSGML kigkonsult.se iCalcreator 2.10.15//
METHOD:PUBLISH
BEGIN:VEVENT
UID:20260420T124726UTC-49994GjXML@https://www.ikma.edu.my/
DTSTAMP:20260420T124726Z
DESCRIPTION:\nMemahami kepentingan penubuhan koperasi dan manfaatnya berdas
 arkan undang-undang\, prinsip dan falsafah koperasi.\n https://www.ikma.ed
 u.my/ms/takwim-program/event/148-asas-mengurus-koperasi-baharu
DTSTART:20250507T080000Z
DTEND:20250508T170000Z
LOCATION:IKMa Kuala Lumpur ()
SUMMARY:Asas Mengurus Koperasi Baharu
URL:https://www.ikma.edu.my/ms/takwim-program/event/148-asas-mengurus-koper
 asi-baharu
END:VEVENT
END:VCALENDAR
