BEGIN:VCALENDAR
VERSION:2.0
PRODID:-//https://www.ikma.edu.my///NONSGML kigkonsult.se iCalcreator 2.10.15//
METHOD:PUBLISH
BEGIN:VEVENT
UID:20260423T011407UTC-7966iGDg6C@https://www.ikma.edu.my/
DTSTAMP:20260423T011407Z
DESCRIPTION:\nMenguruskan pertikaian dalam koperasi mengikut kaedah perunda
 ngan koperasi.\nMenganalisa kes undang-undang sebagai panduan dan perbandi
 ngan untuk menguruskan pertikaian koperasi.\n https://www.ikma.edu.my/ms/t
 akwim-program/event/138-pengurusan-penyelesaian-pertikaian-koperasi
DTSTART:20250429T080000Z
DTEND:20250429T170000Z
LOCATION:IKMa PETALING JAYA (IKMa PETALING JAYA)
SUMMARY:Pengurusan Penyelesaian Pertikaian Koperasi
URL:https://www.ikma.edu.my/ms/takwim-program/event/138-pengurusan-penyeles
 aian-pertikaian-koperasi
END:VEVENT
END:VCALENDAR
