BEGIN:VCALENDAR
VERSION:2.0
PRODID:-//https://www.ikma.edu.my///NONSGML kigkonsult.se iCalcreator 2.10.15//
METHOD:PUBLISH
BEGIN:VEVENT
UID:20260422T230232UTC-4464UKgtvw@https://www.ikma.edu.my/
DTSTAMP:20260422T230232Z
DESCRIPTION:\nMemahami kepentingan undang-undang kecil koperasi dan mengapl
 ikasikan terhadap pematuhan undang-undang berkenaan.\n https://www.ikma.ed
 u.my/ms/takwim-program/event/136-memahami-undang-undang-kecil-koperasi
DTSTART:20250429T080000Z
DTEND:20250430T170000Z
LOCATION:IKMa Cyberjaya ()
SUMMARY:Memahami Undang-undang Kecil Koperasi
URL:https://www.ikma.edu.my/ms/takwim-program/event/136-memahami-undang-und
 ang-kecil-koperasi
END:VEVENT
END:VCALENDAR
