BEGIN:VCALENDAR
VERSION:2.0
PRODID:-//https://www.ikma.edu.my///NONSGML kigkonsult.se iCalcreator 2.10.15//
METHOD:PUBLISH
BEGIN:VEVENT
UID:20260423T111834UTC-07949WO0HP@https://www.ikma.edu.my/
DTSTAMP:20260423T111834Z
DESCRIPTION:\nMenjelaskan kepentingan indikator yang sesuai digunakan bagi 
 menganalisis prestasi kewangan koperasi.\nMenggunakan kaedah analisis bagi
  menilai prestasi kewangan koperasi.\n https://www.ikma.edu.my/ms/takwim-p
 rogram/event/119-wajib-plus-analisis-penyata-kewangan-untuk-pembuatan-kepu
 tusan
DTSTART:20250422T080000Z
DTEND:20250423T170000Z
LOCATION:IKMa Melaka ()
SUMMARY:Wajib Plus: Analisis Penyata Kewangan untuk Pembuatan Keputusan
URL:https://www.ikma.edu.my/ms/takwim-program/event/119-wajib-plus-analisis
 -penyata-kewangan-untuk-pembuatan-keputusan
END:VEVENT
END:VCALENDAR
