BEGIN:VCALENDAR
VERSION:2.0
PRODID:-//https://www.ikma.edu.my///NONSGML kigkonsult.se iCalcreator 2.10.15//
METHOD:PUBLISH
BEGIN:VEVENT
UID:20260423T111754UTC-4337BLFTLg@https://www.ikma.edu.my/
DTSTAMP:20260423T111754Z
DESCRIPTION:\nPeserta dapat meningkatkan kemahiran menggunakan perisian Mic
 rosoft Word dan Microsoft PowerPoint dalam menghasilkan dokumen\, memanipu
 lasi maklumat\, dan mencipta persembahan yang berkesan dan profesional bag
 i peningkatan produktiviti.\n https://www.ikma.edu.my/ms/takwim-program/ev
 ent/118-menguasai-ms-word-dan-powerpoint-untuk-produktiviti
DTSTART:20250422T080000Z
DTEND:20250423T170000Z
LOCATION:IKMa PETALING JAYA (IKMa PETALING JAYA)
SUMMARY:MENGUASAI MS WORD DAN POWERPOINT UNTUK PRODUKTIVITI
URL:https://www.ikma.edu.my/ms/takwim-program/event/118-menguasai-ms-word-d
 an-powerpoint-untuk-produktiviti
END:VEVENT
END:VCALENDAR
