BEGIN:VCALENDAR
VERSION:2.0
PRODID:-//https://www.ikma.edu.my///NONSGML kigkonsult.se iCalcreator 2.10.15//
METHOD:PUBLISH
BEGIN:VEVENT
UID:20260423T111703UTC-5689S621xk@https://www.ikma.edu.my/
DTSTAMP:20260423T111703Z
DESCRIPTION:\nMemahami kepentingan dan strategi asas dalam pelabelan produk
  mengikut syarat Akta Pelabelan dan Peraturan Makanan serta mempelajari ko
 mponen utama dan teknik reka bentuk logo.\n https://www.ikma.edu.my/ms/tak
 wim-program/event/116-pemasaran-produk-pelabelan-logo
DTSTART:20250422T080000Z
DTEND:20250423T170000Z
LOCATION:IKMa Cawangan Ipoh ()
SUMMARY:PEMASARAN PRODUK: PELABELAN & LOGO
URL:https://www.ikma.edu.my/ms/takwim-program/event/116-pemasaran-produk-pe
 labelan-logo
END:VEVENT
END:VCALENDAR
