BEGIN:VCALENDAR
VERSION:2.0
PRODID:-//https://www.ikma.edu.my///NONSGML kigkonsult.se iCalcreator 2.10.15//
METHOD:PUBLISH
BEGIN:VEVENT
UID:20260423T050717UTC-8249NzgrIl@https://www.ikma.edu.my/
DTSTAMP:20260423T050717Z
DESCRIPTION:Bual Bicara Pemimpin (CEO Talk) https://www.ikma.edu.my/ms/takw
 im-program/event/546-ceo-talk-z-sabah
DTSTART:20261112T080000Z
DTEND:20261112T170000Z
LOCATION:IKMa Zon Sabah (Institut Koperasi Malaysia (IKMa) Zon Sabah)
SUMMARY:CEO TALK -Z.SABAH
URL:https://www.ikma.edu.my/ms/takwim-program/event/546-ceo-talk-z-sabah
END:VEVENT
END:VCALENDAR
