BEGIN:VCALENDAR
VERSION:2.0
PRODID:-//https://www.ikma.edu.my///NONSGML kigkonsult.se iCalcreator 2.10.15//
METHOD:PUBLISH
BEGIN:VEVENT
UID:20260422T111753UTC-176125UnRr@https://www.ikma.edu.my/
DTSTAMP:20260422T111753Z
DESCRIPTION:Bicara Ilmu https://www.ikma.edu.my/ms/takwim-program/event/545
 -bicara-ilmu-serian-z-sarawak
DTSTART:20261105T080000Z
DTEND:20261105T170000Z
LOCATION:IKMa Serian ()
SUMMARY:BICARA ILMU (SERIAN)-Z.SARAWAK
URL:https://www.ikma.edu.my/ms/takwim-program/event/545-bicara-ilmu-serian-
 z-sarawak
END:VEVENT
END:VCALENDAR
