BEGIN:VCALENDAR
VERSION:2.0
PRODID:-//https://www.ikma.edu.my///NONSGML kigkonsult.se iCalcreator 2.10.15//
METHOD:PUBLISH
BEGIN:VEVENT
UID:20260422T012412UTC-75885KWLbT@https://www.ikma.edu.my/
DTSTAMP:20260422T012412Z
DESCRIPTION:\nMemahami konsep dan prinsip perakaunan\, mengenalpasti dokume
 n dan buku-buku akaun yang perlu disimpan oleh koperasi\, mengaplikasikan 
 proses merekodkan urus niaga koperasi dengan cara yang betul\, teratur dan
  menyediakan laporan kewangan berkaitan.\n https://www.ikma.edu.my/ms/takw
 im-program/event/542-perakaunan-asas-menggunakan-ms-excel-caw-miri
DTSTART:20261027T080000Z
DTEND:20261029T170000Z
LOCATION:IKMa Miri ()
SUMMARY:PERAKAUNAN ASAS MENGGUNAKAN MS EXCEL @ CAW MIRI
URL:https://www.ikma.edu.my/ms/takwim-program/event/542-perakaunan-asas-men
 ggunakan-ms-excel-caw-miri
END:VEVENT
END:VCALENDAR
