BEGIN:VCALENDAR
VERSION:2.0
PRODID:-//https://www.ikma.edu.my///NONSGML kigkonsult.se iCalcreator 2.10.15//
METHOD:PUBLISH
BEGIN:VEVENT
UID:20260419T173008UTC-3387ggdubv@https://www.ikma.edu.my/
DTSTAMP:20260419T173008Z
DESCRIPTION:1. Mengenal pasti strategi pemasaran WhatsApp Business dalam me
 njalankan perniagaan. 2. Aplikasi teknik-teknik pemasaran WhatsApp Busines
 s secara efektif. https://www.ikma.edu.my/ms/takwim-program/event/50-strat
 egi-pemasaran-whatsapp-business
DTSTART:20241028T080000Z
DTEND:20241029T170000Z
LOCATION:Dalam Talian (Dalam Talian (Online))
SUMMARY:Strategi Pemasaran Whatsapp Business
URL:https://www.ikma.edu.my/ms/takwim-program/event/50-strategi-pemasaran-w
 hatsapp-business
END:VEVENT
END:VCALENDAR
