BEGIN:VCALENDAR
VERSION:2.0
PRODID:-//https://www.ikma.edu.my///NONSGML kigkonsult.se iCalcreator 2.10.15//
METHOD:PUBLISH
BEGIN:VEVENT
UID:20260420T001856UTC-8124kguZ5u@https://www.ikma.edu.my/
DTSTAMP:20260420T001856Z
DESCRIPTION:\nMemberi pendedahan dan kefahaman tentang peruntukan perundang
 an koperasi.\n\n\nMemberi pendedahan terhadap pematuhan peruntukan perunda
 ngan dalam pengurusan dan pentadbiran koperasi.\n https://www.ikma.edu.my/
 ms/takwim-program/event/44-perundangan-koperasi
DTSTART:20241015T080000Z
DTEND:20241016T170000Z
LOCATION:INSTITUT KOPERASI MALAYSIA\, PETALING JAYA (INSTITUT KOPERASI MALA
 YSIA\, PETALING JAYA)
SUMMARY:Perundangan Koperasi
URL:https://www.ikma.edu.my/ms/takwim-program/event/44-perundangan-koperasi
END:VEVENT
BEGIN:VEVENT
UID:20260420T001856UTC-8127XVd9a5@https://www.ikma.edu.my/
DTSTAMP:20260420T001856Z
DESCRIPTION:1.&nbsp\;Memberi pendedahan konsep dan kepentingan risiko di ko
 perasi.2.&nbsp\;Mengenal pasti strategi pengurusan risiko yang bersesuaian
  untuk koperasi.3.&nbsp\;Memahami proses pengurusan risiko yang selari den
 gan objektif koperasi  https://www.ikma.edu.my/ms/takwim-program/event/45-
 wajib-lanjutan-pengurusan-risiko
DTSTART:20241015T080000Z
DTEND:20241016T170000Z
LOCATION:Dalam Talian (Dalam Talian (Online))
SUMMARY:Wajib Lanjutan: Pengurusan Risiko
URL:https://www.ikma.edu.my/ms/takwim-program/event/45-wajib-lanjutan-pengu
 rusan-risiko
END:VEVENT
END:VCALENDAR
