BEGIN:VCALENDAR
VERSION:2.0
PRODID:-//https://www.ikma.edu.my///NONSGML kigkonsult.se iCalcreator 2.10.15//
METHOD:PUBLISH
BEGIN:VEVENT
UID:20260419T205003UTC-3300de9OIV@https://www.ikma.edu.my/
DTSTAMP:20260419T205003Z
DESCRIPTION:Mengaplikasi teknik video pemasaran viral di media sosial serta
  menghasilkan video yang menarik untuk pemasaran dengan menggunakan smartp
 hone. https://www.ikma.edu.my/ms/takwim-program/event/39-penghasilan-video
 -smartphone
DTSTART:20241007T080000Z
DTEND:20241009T170000Z
LOCATION:INSTITUT KOPERASI MALAYSIA\, PETALING JAYA (INSTITUT KOPERASI MALA
 YSIA\, PETALING JAYA)
SUMMARY:Penghasilan Video Smartphone
URL:https://www.ikma.edu.my/ms/takwim-program/event/39-penghasilan-video-sm
 artphone
END:VEVENT
BEGIN:VEVENT
UID:20260419T205003UTC-3305nf3zOb@https://www.ikma.edu.my/
DTSTAMP:20260419T205003Z
DESCRIPTION: 1.Memberi pendedahan mengenai belanjawan untuk operasi koperas
 i.2.Menyediakan belanjawan untuk operasi koperasi.3.Memberi kefahaman meng
 enai belanjawan sebagai alat untuk mengawal operasi koperasi.  https://www
 .ikma.edu.my/ms/takwim-program/event/42-wajib-lanjutan-penyediaan-belanjaw
 an
DTSTART:20241007T080000Z
DTEND:20241008T170000Z
LOCATION:INSTITUT KOPERASI MALAYSIA\,PJ (INSTITUT KOPERASI MALAYSIA\,PJ)
SUMMARY:Wajib Lanjutan : Penyediaan Belanjawan
URL:https://www.ikma.edu.my/ms/takwim-program/event/42-wajib-lanjutan-penye
 diaan-belanjawan
END:VEVENT
END:VCALENDAR
