BEGIN:VCALENDAR
VERSION:2.0
PRODID:-//https://www.ikma.edu.my///NONSGML kigkonsult.se iCalcreator 2.10.15//
METHOD:PUBLISH
BEGIN:VEVENT
UID:20260419T205004UTC-08676mbVFx@https://www.ikma.edu.my/
DTSTAMP:20260419T205004Z
DESCRIPTION:1.&nbsp\;Memberi kefahaman terhadap aspek asas pengurusan kewan
 gan.2.&nbsp\;Memberi kefahaman berkaitan tafsiran penyata kewangan.3.&nbsp
 \;Mengenal pasti kaedah pengurusan modal kerja. https://www.ikma.edu.my/ms
 /takwim-program/event/38-pengurusan-kewangan-koperasi-wajib-2
DTSTART:20240930T080000Z
DTEND:20241001T170000Z
LOCATION:INSTITUT KOPERASI MALAYSIA\,PJ (INSTITUT KOPERASI MALAYSIA\,PJ)
SUMMARY:Pengurusan Kewangan Koperasi (Wajib 2) 
URL:https://www.ikma.edu.my/ms/takwim-program/event/38-pengurusan-kewangan-
 koperasi-wajib-2
END:VEVENT
END:VCALENDAR
