BEGIN:VCALENDAR
VERSION:2.0
PRODID:-//https://www.ikma.edu.my///NONSGML kigkonsult.se iCalcreator 2.10.15//
METHOD:PUBLISH
BEGIN:VEVENT
UID:20260419T163519UTC-7121RHUaKD@https://www.ikma.edu.my/
DTSTAMP:20260419T163519Z
DESCRIPTION:\nMenjelaskan peranan dan tanggungjawab Jawatankuasa Audit Dala
 man Koperasi\nMengenal pasti proses dan kaedah melaksanakan kerja audit da
 laman menggunakan tatacara audit yang sistematik\n https://www.ikma.edu.my
 /ms/takwim-program/event/537-tatacara-pengauditan-dan-perakaunan-koperasi-
 wajib-jad-papar-z-sabah
DTSTART:20260922T080000Z
DTEND:20260923T170000Z
LOCATION:IKMa Papar\, Sabah ()
SUMMARY:TATACARA PENGAUDITAN DAN PERAKAUNAN KOPERASI (WAJIB JAD) - PAPAR -Z
 .SABAH
URL:https://www.ikma.edu.my/ms/takwim-program/event/537-tatacara-pengaudita
 n-dan-perakaunan-koperasi-wajib-jad-papar-z-sabah
END:VEVENT
END:VCALENDAR
