BEGIN:VCALENDAR
VERSION:2.0
PRODID:-//https://www.ikma.edu.my///NONSGML kigkonsult.se iCalcreator 2.10.15//
METHOD:PUBLISH
BEGIN:VEVENT
UID:20260420T001254UTC-91254kpPwK@https://www.ikma.edu.my/
DTSTAMP:20260420T001254Z
DESCRIPTION:1. Menghasilkan laman web dan menjadikan laman web berada di ke
 dudukan teratas dalam carian Google serta 2. Aplikasikan teknik-teknik SEO
  untuk laman web. https://www.ikma.edu.my/ms/takwim-program/event/27-pemba
 ngunan-laman-web-dan-search-engine-optimization-seo
DTSTART:20240909T080000Z
DTEND:20240911T170000Z
LOCATION:INSTITUT KOPERASI MALAYSIA\, PETALING JAYA  (INSTITUT KOPERASI MAL
 AYSIA\, PETALING JAYA )
SUMMARY:Pembangunan Laman Web dan Search Engine Optimization (SEO)
URL:https://www.ikma.edu.my/ms/takwim-program/event/27-pembangunan-laman-we
 b-dan-search-engine-optimization-seo
END:VEVENT
BEGIN:VEVENT
UID:20260420T001254UTC-9126OCReen@https://www.ikma.edu.my/
DTSTAMP:20260420T001254Z
DESCRIPTION:Memastikan ketulenan emas dikenalpasti bagi mengelakkan sebaran
 g kes penipuan dan pemalsuan emas. https://www.ikma.edu.my/ms/takwim-progr
 am/event/29-akredetasi-penaksir-emas-ar-rahnu
DTSTART:20240910T080000Z
DTEND:20240911T170000Z
LOCATION:INSTITUT KOPERASI MALAYSIA\, PETALING JAYA  (INSTITUT KOPERASI MAL
 AYSIA\, PETALING JAYA )
SUMMARY:Akredetasi Penaksir Emas Ar Rahnu
URL:https://www.ikma.edu.my/ms/takwim-program/event/29-akredetasi-penaksir-
 emas-ar-rahnu
END:VEVENT
BEGIN:VEVENT
UID:20260420T001254UTC-9128h5b0OA@https://www.ikma.edu.my/
DTSTAMP:20260420T001254Z
DESCRIPTION:o&lt\;ul&gt\;&lt\;li&gt\;Memberi pendedahan dan kefahaman tenta
 ng peruntukan perundangan koperasi.&lt\;/li&gt\;&lt\;li&gt\;Memberi pended
 ahan terhadap pematuhan peruntukan perundangan dalam pengurusan dan pentad
 biran koperasi.&lt\;/li&gt\;&lt\;/ul&gt\; https://www.ikma.edu.my/ms/takwi
 m-program/event/30-perundangan-koperasi
DTSTART:20240911T080000Z
DTEND:20240912T170000Z
LOCATION:INSTITUT KOPERASI MALAYSIA\, PETALING JAYA  (INSTITUT KOPERASI MAL
 AYSIA\, PETALING JAYA )
SUMMARY:Perundangan Koperasi
URL:https://www.ikma.edu.my/ms/takwim-program/event/30-perundangan-koperasi
END:VEVENT
END:VCALENDAR
